BEGIN:VCALENDAR
VERSION:2.0
X-WR-CALNAME: Tijs Vanneste & Tangled Horns
PRODID:GIGPRESS 2.0 WORDPRESS PLUGIN
CALSCALE:GREGORIAN
X-WR-TIMEZONE:Etc/GMT
METHOD:PUBLISH
BEGIN:VTIMEZONE
TZID:GMT
BEGIN:STANDARD
DTSTART:20071028T010000
TZOFFSETTO:+0000
TZOFFSETFROM:+0000
END:STANDARD
END:VTIMEZONE
BEGIN:VEVENT
SUMMARY:Tijs Vanneste & Tangled Horns in De Singer
DESCRIPTION:Prijs: €18 / €21. 
LOCATION:De Singer\, Rijkevorsel\, BE
UID:20260430T193000Z-279-tangledhorns@gmail.com
URL:https://www.tangledhorns.com
DTSTART;VALUE=DATE-TIME;TZID=GMT:20260430T193000Z
DTEND;VALUE=DATE-TIME;TZID=GMT:20260430T193000Z
DTSTAMP:20260421T035405Z
END:VEVENT
BEGIN:VEVENT
SUMMARY:Tijs Vanneste & Tangled Horns in Macca Club
DESCRIPTION:Prijs: €20 / €25 / €59 / €64. 
LOCATION:Macca Club\, Hasselt\, BE
UID:20260513T210000Z-280-tangledhorns@gmail.com
URL:https://www.tangledhorns.com
DTSTART;VALUE=DATE-TIME;TZID=GMT:20260513T210000Z
DTEND;VALUE=DATE-TIME;TZID=GMT:20260513T210000Z
DTSTAMP:20260421T035405Z
END:VEVENT
BEGIN:VEVENT
SUMMARY:Tijs Vanneste & Tangled Horns in PC De Schrans
DESCRIPTION:Prijs: €20. 
LOCATION:PC De Schrans\, Vaartstraat 5\, Beerse\, BE
UID:20260516T193000Z-283-tangledhorns@gmail.com
URL:https://www.tangledhorns.com
DTSTART;VALUE=DATE-TIME;TZID=GMT:20260516T193000Z
DTEND;VALUE=DATE-TIME;TZID=GMT:20260516T193000Z
DTSTAMP:20260421T035405Z
END:VEVENT
END:VCALENDAR